BEGIN:VCALENDAR
VERSION:2.0
PRODID:spatie/icalendar-generator
DESCRIPTION:Veranstaltungen von Grundschule Westercelle
X-WR-CALDESC:Veranstaltungen von Grundschule Westercelle
REFRESH-INTERVAL;VALUE=DURATION:PT1440M
X-PUBLISHED-TTL:PT1440M
BEGIN:VTIMEZONE
TZID:Europe/Berlin
BEGIN:STANDARD
DTSTART:20251026T030000Z
TZOFFSETFROM:+0200
TZOFFSETTO:+0100
END:STANDARD
BEGIN:DAYLIGHT
DTSTART:20260329T020000Z
TZOFFSETFROM:+0100
TZOFFSETTO:+0200
END:DAYLIGHT
END:VTIMEZONE
BEGIN:VTIMEZONE
TZID:UTC
BEGIN:STANDARD
DTSTART:20250725T185838Z
TZOFFSETFROM:+0000
TZOFFSETTO:+0000
END:STANDARD
END:VTIMEZONE
BEGIN:VEVENT
UID:10-3
DTSTAMP:20260421T185838Z
SUMMARY:Winterferien 2026
LOCATION:
ORGANIZER;CN=Isabell:MAILTO:isabell.thoms@schule-nds.de
DTSTART;TZID=Europe/Berlin;VALUE=DATE:20260202
DTEND;TZID=Europe/Berlin;VALUE=DATE:20260204
X-ALT-DESC;FMTTYPE=TEXT/HTML:Die Winterferien (auch Zeugnisferien genannt) 
 finden vom 02. Februar - 03. Februar 2026 statt.
CATEGORIES:Ferien
URL;VALUE=URI:https://gs-westercelle.de/mc-events/winterferien-2026/
METHOD:PUBLISH
END:VEVENT
END:VCALENDAR