BEGIN:VCALENDAR
VERSION:2.0
PRODID:spatie/icalendar-generator
DESCRIPTION:Veranstaltungen von Grundschule Westercelle
X-WR-CALDESC:Veranstaltungen von Grundschule Westercelle
REFRESH-INTERVAL;VALUE=DURATION:PT1440M
X-PUBLISHED-TTL:PT1440M
BEGIN:VTIMEZONE
TZID:Europe/Berlin
BEGIN:DAYLIGHT
DTSTART:20260329T020000Z
TZOFFSETFROM:+0100
TZOFFSETTO:+0200
END:DAYLIGHT
BEGIN:STANDARD
DTSTART:20261025T030000Z
TZOFFSETFROM:+0200
TZOFFSETTO:+0100
END:STANDARD
BEGIN:DAYLIGHT
DTSTART:20270328T020000Z
TZOFFSETFROM:+0100
TZOFFSETTO:+0200
END:DAYLIGHT
END:VTIMEZONE
BEGIN:VTIMEZONE
TZID:UTC
BEGIN:STANDARD
DTSTART:20250725T185323Z
TZOFFSETFROM:+0000
TZOFFSETTO:+0000
END:STANDARD
END:VTIMEZONE
BEGIN:VEVENT
UID:13-10
DTSTAMP:20260421T185323Z
SUMMARY:Herbstferien 2026
LOCATION:
ORGANIZER;CN=Charlotte Jordanland:MAILTO:charlotte.jordanland@schule-nds.de
DTSTART;TZID=Europe/Berlin;VALUE=DATE:20261012
DTEND;TZID=Europe/Berlin;VALUE=DATE:20261025
X-ALT-DESC;FMTTYPE=TEXT/HTML:Vom 12. Oktober - 24. Oktober 2026 sind Herbst
 ferien.
CATEGORIES:Ferien
URL;VALUE=URI:https://gs-westercelle.de/mc-events/herbstferien-2026/
METHOD:PUBLISH
END:VEVENT
END:VCALENDAR