BEGIN:VCALENDAR
VERSION:2.0
PRODID:spatie/icalendar-generator
DESCRIPTION:Veranstaltungen von Grundschule Westercelle
X-WR-CALDESC:Veranstaltungen von Grundschule Westercelle
REFRESH-INTERVAL;VALUE=DURATION:PT1440M
X-PUBLISHED-TTL:PT1440M
BEGIN:VTIMEZONE
TZID:Europe/Berlin
BEGIN:STANDARD
DTSTART:20251026T030000Z
TZOFFSETFROM:+0200
TZOFFSETTO:+0100
END:STANDARD
BEGIN:DAYLIGHT
DTSTART:20260329T020000Z
TZOFFSETFROM:+0100
TZOFFSETTO:+0200
END:DAYLIGHT
END:VTIMEZONE
BEGIN:VTIMEZONE
TZID:UTC
BEGIN:STANDARD
DTSTART:20250725T161053Z
TZOFFSETFROM:+0000
TZOFFSETTO:+0000
END:STANDARD
END:VTIMEZONE
BEGIN:VEVENT
UID:16-13
DTSTAMP:20260421T161053Z
SUMMARY:Gemeinsame Vorstellung - Weiterführende Schulen
LOCATION:
ORGANIZER;CN=Charlotte Jordanland:MAILTO:charlotte.jordanland@schule-nds.de
DTSTART;TZID=Europe/Berlin:20260210T190000
DTEND;TZID=Europe/Berlin:20260210T200000
X-ALT-DESC;FMTTYPE=TEXT/HTML:Gemeinsame Vorstellung des Bildungsangebots du
 rch alle weiterführenden Schulen: Dienstag\, 10. Februar 2026\, 19:00 Uhr
 \, Forum des Schulzentrums Burgstraße
CATEGORIES:Übergang 4 - 5
URL;VALUE=URI:https://gs-westercelle.de/mc-events/gemeinsame-vorstellung-we
 iterfuehrende-schulen/
METHOD:PUBLISH
END:VEVENT
END:VCALENDAR