BEGIN:VCALENDAR
VERSION:2.0
PRODID:spatie/icalendar-generator
DESCRIPTION:Veranstaltungen von Grundschule Westercelle
X-WR-CALDESC:Veranstaltungen von Grundschule Westercelle
REFRESH-INTERVAL;VALUE=DURATION:PT1440M
X-PUBLISHED-TTL:PT1440M
BEGIN:VTIMEZONE
TZID:Europe/Berlin
BEGIN:DAYLIGHT
DTSTART:20250330T020000Z
TZOFFSETFROM:+0100
TZOFFSETTO:+0200
END:DAYLIGHT
BEGIN:STANDARD
DTSTART:20251026T030000Z
TZOFFSETFROM:+0200
TZOFFSETTO:+0100
END:STANDARD
BEGIN:DAYLIGHT
DTSTART:20260329T020000Z
TZOFFSETFROM:+0100
TZOFFSETTO:+0200
END:DAYLIGHT
END:VTIMEZONE
BEGIN:VTIMEZONE
TZID:UTC
BEGIN:STANDARD
DTSTART:20250725T191237Z
TZOFFSETFROM:+0000
TZOFFSETTO:+0000
END:STANDARD
END:VTIMEZONE
BEGIN:VEVENT
UID:7-2
DTSTAMP:20260421T191237Z
SUMMARY:Weihnachtsferien 2025
LOCATION:
ORGANIZER;CN=Isabell:MAILTO:isabell.thoms@schule-nds.de
DTSTART;TZID=Europe/Berlin;VALUE=DATE:20251222
DTEND;TZID=Europe/Berlin;VALUE=DATE:20260106
X-ALT-DESC;FMTTYPE=TEXT/HTML:Die Weihnachtsferien 2025 finden vom 22. Dezem
 ber 2025 - 05. Januar 2026 statt. Die Schule beginnt am Dienstag\, den 06.
  Januar 2026.
CATEGORIES:Ferien
URL;VALUE=URI:https://gs-westercelle.de/mc-events/weihnachtsferien-2025/
METHOD:PUBLISH
END:VEVENT
END:VCALENDAR